BEGIN:VCALENDAR
VERSION:2.0
X-WR-TIMEZONE:America/Guadeloupe
CALSCALE:GREGORIAN
PRODID:-//IPEOS/Calendar//NONSGML v1.0//FR
X-WR-CALNAME;VALUE=TEXT:Sainte-Anne - Le marché de Valette déplacé à l’espace marchand La Flo le jeudi 23/11/2023
X-WR-CALDESC: En raison de travaux en cours sur la Place Hermann Songeons (Valette)\, le marché de Valette du jeudi 23 novembre 2023 sera exceptionnellement déplacé sur l’espace marchand La Flo situé sur le boulevard H. Ibéné\, à côté du centre Culturel 
X-WR-RELCALID:vivre-a-sainte-anne/vie-economique/les-marches-de-sainte-anne/marche-de-valette/article/le-marche-nocturne
BEGIN:VEVENT
SUMMARY:Le marché nocturne de Valette exceptionnellement à l'espace marchand La Flo le jeudi 23/11/2023
UID:evenement1006 @ https://www.ville-sainteanne.fr
DTSTAMP:20231122T132943Z
DTSTART:20231123T210000Z
DTEND:20231124T020000Z
CREATED:20231122T132943Z
LAST-MODIFIED:20231122T172943Z
LOCATION:Espace marchand La Flo
DESCRIPTION: 
CATEGORIES:Le marché de Valette déplacé à l'espace marchand La Flo le jeudi 23/11/2023
URL:https://www.ville-sainteanne.fr/vivre-a-sainte-anne/vie-economique/les-marches-de-sainte-anne/marche-de-valette/article/le-marche-nocturne?id_evenement=1006

STATUS:CONFIRMED
END:VEVENT
END:VCALENDAR

