BEGIN:VCALENDAR
VERSION:2.0
X-WR-TIMEZONE:America/Guadeloupe
CALSCALE:GREGORIAN
PRODID:-//IPEOS/Calendar//NONSGML v1.0//FR
X-WR-CALNAME;VALUE=TEXT:Sainte-Anne - Lancement des illuminations de fin d’année
X-WR-CALDESC: 𝐸𝑛 𝑐𝑒𝑡𝑡𝑒 𝑓𝑖𝑛 𝑑’𝑎𝑛𝑛𝑒́𝑒\, 𝑙𝑎 𝑉𝑖𝑙𝑙𝑒 𝑑𝑒 𝑆𝑎𝑖𝑛𝑡𝑒-𝐴𝑛𝑛𝑒 𝑟𝑒𝑣𝑒̂𝑡 𝑠𝑜𝑛 𝑝𝑙𝑢𝑠 𝑏𝑒𝑎𝑢 𝑚𝑎𝑛𝑡𝑒𝑎𝑢 𝑙𝑢𝑚𝑖𝑛𝑒𝑢𝑥.    Pour la première fois depuis près de 10 ans\, la Place Schœlcher et le Boulevard Hégésippe Ibéné seront illuminés tout au long du mois de décembre.   𝑳𝒂 𝑽𝒊𝒍𝒍𝒆 𝒅𝒆 𝑺𝒂𝒊𝒏𝒕𝒆-𝑨𝒏𝒏𝒆 𝒗𝒐𝒖𝒔 𝒊𝒏𝒗𝒊𝒕𝒆 𝒂̀ 𝒑𝒂𝒓𝒕𝒊𝒄𝒊𝒑𝒆𝒓 𝒏𝒐𝒎𝒃𝒓𝒆𝒖𝒙 𝒂̀ 𝒍𝒂 𝒔𝒐𝒊𝒓𝒆́𝒆 𝒅’𝒂𝒏𝒊𝒎𝒂𝒕𝒊𝒐𝒏𝒔 𝒐𝒓𝒈𝒂𝒏𝒊𝒔𝒆́𝒆 𝒅𝒂𝒏𝒔 𝒍𝒆 𝒄𝒂𝒅𝒓𝒆 𝒅𝒖 𝒍𝒂𝒏𝒄𝒆𝒎𝒆𝒏𝒕 𝒅𝒆𝒔 𝒊𝒍𝒍𝒖𝒎𝒊𝒏𝒂𝒕𝒊𝒐𝒏𝒔 𝒄𝒆 𝒗𝒆𝒏𝒅𝒓𝒆𝒅𝒊 𝟏𝒆𝒓 𝒅𝒆́𝒄𝒆𝒎𝒃𝒓𝒆 𝟐𝟎𝟐𝟑\, 𝒂̀ 𝒑𝒂𝒓𝒕𝒊𝒓 𝒅𝒆 𝟏𝟖 𝒉𝒆𝒖𝒓𝒆𝒔.   La soirée se déroulera comme suit :  18h : Animation (…) 
X-WR-RELCALID:actualites/article/lancement-des-illuminations-de-fin-d-annee
BEGIN:VEVENT
SUMMARY:Lancement des illuminations de fin d'année
UID:evenement1015 @ https://www.ville-sainteanne.fr
DTSTAMP:20231130T205437Z
DTSTART:20231201T220000Z
DTEND:20231201T233000Z
CREATED:20231130T205437Z
LAST-MODIFIED:20231201T005452Z
LOCATION:Centre culturel
DESCRIPTION: 
CATEGORIES:Lancement des illuminations de fin d'année
URL:https://www.ville-sainteanne.fr/actualites/article/lancement-des-illuminations-de-fin-d-annee?id_evenement=1015

STATUS:CONFIRMED
END:VEVENT
END:VCALENDAR

