BEGIN:VCALENDAR
VERSION:2.0
X-WR-TIMEZONE:America/Guadeloupe
CALSCALE:GREGORIAN
PRODID:-//IPEOS/Calendar//NONSGML v1.0//FR
X-WR-CALNAME;VALUE=TEXT:Sainte-Anne - Carnaval : deux parades pour les écoliers du territoire !
X-WR-CALDESC: 8 ans après la dernière édition\, la Ville de Sainte-Anne est heureuse de célébrer de nouveau le Carnaval avec les élèves des 15 écoles du territoire et les enfants de la crèche !    LE CARNAVAL DES ÉCOLES\, UNE PARADE POUR LES PLUS GRANDS Le Carnaval des écoles fera son grand retour le jeudi 8 février 2024 de 8h à 11h\, avec une parade carnavalesque dans les rues du Bourg\, sur le thème de l’Olympisme ! Les encadrants et les élèves des 15 écoles du territoire sont attendus dès 7h30 sur la place (…) 
X-WR-RELCALID:vivre-a-sainte-anne/enfance-et-education/animations-pour-les-scolaires/article/carnaval-deux-parades-pour-les-ecoliers-du-territoire
BEGIN:VEVENT
SUMMARY:Carnaval : deux parades pour les écoliers du territoire !
UID:evenement1044 @ https://www.ville-sainteanne.fr
DTSTAMP:20240205T193022Z
DTSTART:20240207T190000Z
DTEND:20240207T203000Z
CREATED:20240205T193022Z
LAST-MODIFIED:20240205T233031Z
LOCATION:Espace Valette
DESCRIPTION: 
CATEGORIES:Carnaval : deux parades pour les écoliers du territoire !
URL:https://www.ville-sainteanne.fr/vivre-a-sainte-anne/enfance-et-education/animations-pour-les-scolaires/article/carnaval-deux-parades-pour-les-ecoliers-du-territoire?id_evenement=1044

STATUS:CONFIRMED
END:VEVENT
END:VCALENDAR

