BEGIN:VCALENDAR
VERSION:2.0
X-WR-TIMEZONE:America/Guadeloupe
CALSCALE:GREGORIAN
PRODID:-//IPEOS/Calendar//NONSGML v1.0//FR
X-WR-CALNAME;VALUE=TEXT:Sainte-Anne - 11ème édition de "Sainte-Anne Art Coté Jardin"
X-WR-CALDESC: A l’occasion de la Fête des Mères\, l’exposition florale et artisanale "Sainte-Anne Art côté jardin" revient le samedi 25 mai 2024 de 8h30 à 18h30 sur la Place Schœlcher.    Cette année encore\, les amoureux des plantes sont invités à venir profiter des nombreuses animations en famille ou entre amis. Échangez avec des professionnels de la nature et visitez les stands artisanaux\, participez aux ateliers thématiques et repartez avec vos produits du terroir.   ON SANMDI POU MANMAN A la veille de (…) 
X-WR-RELCALID:vivre-a-sainte-anne/culture-dans-la-ville/programme-mensuel-des-animations-de-la-ville/article/11eme-edition-de-sainte-anne-art-cote-jardin
BEGIN:VEVENT
SUMMARY:Sainte-Anne Art Coté Jardin
UID:evenement1047 @ https://www.ville-sainteanne.fr
DTSTAMP:20240328T160510Z
DTSTART:20240525T123000Z
DTEND:20240525T223000Z
CREATED:20240328T160510Z
LAST-MODIFIED:20240328T200624Z
LOCATION:Place Schœlcher
DESCRIPTION: 
CATEGORIES:11ème édition de "Sainte-Anne Art Coté Jardin"
URL:https://www.ville-sainteanne.fr/vivre-a-sainte-anne/culture-dans-la-ville/programme-mensuel-des-animations-de-la-ville/article/11eme-edition-de-sainte-anne-art-cote-jardin?id_evenement=1047

STATUS:CONFIRMED
END:VEVENT
END:VCALENDAR

