BEGIN:VCALENDAR
VERSION:2.0
X-WR-TIMEZONE:America/Guadeloupe
CALSCALE:GREGORIAN
PRODID:-//IPEOS/Calendar//NONSGML v1.0//FR
X-WR-CALNAME;VALUE=TEXT:Sainte-Anne - Fermeture exceptionnelle des services municipaux
X-WR-CALDESC: Le Maire de la Ville de Sainte-Anne\, Christian Baptiste\, informe ces administrés que les Services Municipaux vaqueront le lundi 27 février 2017.   Les services fonctionneront de nouveau aux horaires habituels à partir du jeudi 2 mars 2017. 
X-WR-RELCALID:actualites/article/fermeture-exceptionnelle-des-services-municipaux-364
BEGIN:VEVENT
SUMMARY:Fermeture exceptionnelle des services municipaux
UID:evenement135 @ https://www.ville-sainteanne.fr
DTSTAMP:20170222T115356Z
DTSTART:20170227T113000Z
DTEND:20170227T210000Z
CREATED:20170222T115356Z
LAST-MODIFIED:20170226T024029Z
CATEGORIES:Fermeture exceptionnelle des services municipaux
URL:https://www.ville-sainteanne.fr/actualites/article/fermeture-exceptionnelle-des-services-municipaux-364?id_evenement=135

STATUS:CONFIRMED
END:VEVENT
END:VCALENDAR

