BEGIN:VCALENDAR
VERSION:2.0
X-WR-TIMEZONE:America/Guadeloupe
CALSCALE:GREGORIAN
PRODID:-//IPEOS/Calendar//NONSGML v1.0//FR
X-WR-CALNAME;VALUE=TEXT:Sainte-Anne - Nouvelle vente aux enchères au service technique
X-WR-CALDESC: Engagée dans une démarche de gestion durable de son patrimoine\, la ville de Sainte-Anne vend aux enchères 2 véhicules communaux réformés et une balayeuse aspiratrice.  La vente\, organisée par un commissaire-priseur\, se déroulera le vendredi 24 février 2017 à 12h au Centre Technique Opérationnel de Dupré (anciennement appelé parc automobile du service technique) et sera accessible au grand public.   Contact :    Direction Juridique et Commande Publique   0590 85 48 79 
X-WR-RELCALID:actualites/article/nouvelle-vente-aux-encheres-au-service-technique
BEGIN:VEVENT
SUMMARY:Vente aux enchères au CTO
UID:evenement136 @ https://www.ville-sainteanne.fr
DTSTAMP:20170222T121458Z
DTSTART:20170224T160000Z
DTEND:20170224T180000Z
CREATED:20170222T121458Z
LAST-MODIFIED:20170222T194123Z
LOCATION:Dupré
CATEGORIES:Nouvelle vente aux enchères au service technique
URL:https://www.ville-sainteanne.fr/actualites/article/nouvelle-vente-aux-encheres-au-service-technique?id_evenement=136

STATUS:CONFIRMED
END:VEVENT
END:VCALENDAR

