BEGIN:VCALENDAR
VERSION:2.0
X-WR-TIMEZONE:America/Guadeloupe
CALSCALE:GREGORIAN
PRODID:-//IPEOS/Calendar//NONSGML v1.0//FR
X-WR-CALNAME;VALUE=TEXT:Sainte-Anne - 2ème édition Sainte-Anne Art’
X-WR-CALDESC: La Ville de Sainte-Anne\, toujours dans sa volonté de sensibiliser la population aux pratiques artistiques et de stimuler sa créativité\, vous invite à la 2ème édition de « Sainte-Anne Art’ ».  Les artistes-peintres Sandra EDWIGE\, Johanne Verger dit Kely\, Alain CAPRICE\, Antoine NABAJOTH et Jocelyn Akwaba-Matignon\, partageront leur passion à travers une exposition collective dans le hall de la mairie\, du Vendredi 10 au Samedi 25 mars\, et lors d’un atelier d’initiation à l’Art pictural ouvert à (…) 
X-WR-RELCALID:actualites/article/2eme-edition-sainte-anne-art
BEGIN:VEVENT
SUMMARY:Sainte-Anne Art' : Atelier Floral
UID:evenement139 @ https://www.ville-sainteanne.fr
DTSTAMP:20170309T232849Z
DTSTART:20170311T130000Z
DTEND:20170311T180000Z
CREATED:20170309T232849Z
LAST-MODIFIED:20170310T033749Z
LOCATION:Place Schoelcher
DESCRIPTION:Atelier Floral dispensé par l'Alchimy Design Floral
CATEGORIES:2ème édition Sainte-Anne Art'
URL:https://www.ville-sainteanne.fr/actualites/article/2eme-edition-sainte-anne-art?id_evenement=139

STATUS:CONFIRMED
END:VEVENT
END:VCALENDAR

