BEGIN:VCALENDAR
VERSION:2.0
X-WR-TIMEZONE:America/Guadeloupe
CALSCALE:GREGORIAN
PRODID:-//IPEOS/Calendar//NONSGML v1.0//FR
X-WR-CALNAME;VALUE=TEXT:Sainte-Anne - La Fête des voisins 2017 : Léwaz an fanmi
X-WR-CALDESC: Une belle façon de conjuguer convivialité\, proximité et solidarité    Cette année\, la Ville de Sainte-Anne est heureuse d’annoncer qu’elle s’associe à la prochaine édition de la Fête des voisins\, qui organisée du 19 mai au 11 juin 2017\, a pour but d’offrir un moment de convivialité entre habitants d’un même immeuble\, d’une même rue ou du même quartier\, le temps d’un repas ou d’une collation. Aussi\, la collectivité apporte sa contribution aux initiatives des habitants en offrant un kit aux (…) 
X-WR-RELCALID:citoyennete/associations-et-quartiers/vie-des-quartiers-118/la-fete-des-voisins/article/la-fete-des-voisins-2017-lewaz-an-fanmi
BEGIN:VEVENT
SUMMARY:La Fête des voisins 2017 : Lewaz an fanmi
UID:evenement169 @ https://www.ville-sainteanne.fr
DTSTAMP:20170506T213450Z
DTSTART:20170519T130000Z
DTEND:20170612T010000Z
CREATED:20170506T213450Z
LAST-MODIFIED:20170507T014206Z
CATEGORIES:La Fête des voisins 2017 : Léwaz an fanmi
URL:https://www.ville-sainteanne.fr/citoyennete/associations-et-quartiers/vie-des-quartiers-118/la-fete-des-voisins/article/la-fete-des-voisins-2017-lewaz-an-fanmi?id_evenement=169

STATUS:CONFIRMED
END:VEVENT
END:VCALENDAR

