BEGIN:VCALENDAR
VERSION:2.0
X-WR-TIMEZONE:America/Guadeloupe
CALSCALE:GREGORIAN
PRODID:-//IPEOS/Calendar//NONSGML v1.0//FR
X-WR-CALNAME;VALUE=TEXT:Sainte-Anne - Culture dans la ville - Mai 2018
X-WR-CALDESC:animation\, exposition\, évènements
X-WR-RELCALID:vivre-a-sainte-anne/culture-dans-la-ville/programme-mensuel-des-animations-de-la-ville/article/culture-dans-la-ville-471
BEGIN:VEVENT
SUMMARY:Atelier de recherches généalogique 
UID:evenement227 @ https://www.ville-sainteanne.fr
DTSTAMP:20180509T020042Z
DTSTART:20180522T130000Z
DTEND:20180522T200000Z
CREATED:20180509T020042Z
LAST-MODIFIED:20180509T060042Z
LOCATION:Mairie de Sainte-Anne
DESCRIPTION:En partenariat avec les Archives départementales. Fermeture de 12H30 à 14H
CATEGORIES:Culture dans la ville - Mai 2018
URL:https://www.ville-sainteanne.fr/vivre-a-sainte-anne/culture-dans-la-ville/programme-mensuel-des-animations-de-la-ville/article/culture-dans-la-ville-471?id_evenement=227

STATUS:CONFIRMED
END:VEVENT
END:VCALENDAR

