BEGIN:VCALENDAR
VERSION:2.0
X-WR-TIMEZONE:America/Guadeloupe
CALSCALE:GREGORIAN
PRODID:-//IPEOS/Calendar//NONSGML v1.0//FR
X-WR-CALNAME;VALUE=TEXT:Sainte-Anne - Culture dans la ville - Mai 2018
X-WR-CALDESC:animation\, exposition\, évènements
X-WR-RELCALID:vivre-a-sainte-anne/culture-dans-la-ville/programme-mensuel-des-animations-de-la-ville/article/culture-dans-la-ville-471
BEGIN:VEVENT
SUMMARY:Film documentaire : "Les descendants de la nuit"
UID:evenement228 @ https://www.ville-sainteanne.fr
DTSTAMP:20180509T020342Z
DTSTART:20180524T230000Z
DTEND:20180525T013000Z
CREATED:20180509T020342Z
LAST-MODIFIED:20180509T060342Z
LOCATION:Bibliothèque Multimédia Osange TALIS GANE
DESCRIPTION:Documentaire de Christiane Succab-Goldman
CATEGORIES:Culture dans la ville - Mai 2018
URL:https://www.ville-sainteanne.fr/vivre-a-sainte-anne/culture-dans-la-ville/programme-mensuel-des-animations-de-la-ville/article/culture-dans-la-ville-471?id_evenement=228

STATUS:CONFIRMED
END:VEVENT
END:VCALENDAR

