BEGIN:VCALENDAR
VERSION:2.0
X-WR-TIMEZONE:America/Guadeloupe
CALSCALE:GREGORIAN
PRODID:-//IPEOS/Calendar//NONSGML v1.0//FR
X-WR-CALNAME;VALUE=TEXT:Sainte-Anne - Culture dans la ville - Mai 2018
X-WR-CALDESC:animation\, exposition\, évènements
X-WR-RELCALID:vivre-a-sainte-anne/culture-dans-la-ville/programme-mensuel-des-animations-de-la-ville/article/culture-dans-la-ville-471
BEGIN:VEVENT
SUMMARY:Cérémonie de commémoration de l'abolition de l'esclavage
UID:evenement230 @ https://www.ville-sainteanne.fr
DTSTAMP:20180509T020945Z
DTSTART:20180527T140000Z
DTEND:20180527T160000Z
CREATED:20180509T020945Z
LAST-MODIFIED:20180509T060945Z
CATEGORIES:Culture dans la ville - Mai 2018
URL:https://www.ville-sainteanne.fr/vivre-a-sainte-anne/culture-dans-la-ville/programme-mensuel-des-animations-de-la-ville/article/culture-dans-la-ville-471?id_evenement=230

STATUS:CONFIRMED
END:VEVENT
END:VCALENDAR

