BEGIN:VCALENDAR
VERSION:2.0
X-WR-TIMEZONE:America/Guadeloupe
CALSCALE:GREGORIAN
PRODID:-//IPEOS/Calendar//NONSGML v1.0//FR
X-WR-CALNAME;VALUE=TEXT:Sainte-Anne - Culture dans la ville - Mai 2018
X-WR-CALDESC:animation\, exposition\, évènements
X-WR-RELCALID:vivre-a-sainte-anne/culture-dans-la-ville/programme-mensuel-des-animations-de-la-ville/article/culture-dans-la-ville-471
BEGIN:VEVENT
SUMMARY:Sinépéyi
UID:evenement233 @ https://www.ville-sainteanne.fr
DTSTAMP:20180509T021821Z
DTSTART:20180523T233000Z
DTEND:20180524T013000Z
CREATED:20180509T021821Z
LAST-MODIFIED:20180509T061821Z
LOCATION:Centre de ressources de Douville
DESCRIPTION:Projection du film "Le bonheur d'Elza" de Mariette Montpierre
CATEGORIES:Culture dans la ville - Mai 2018
URL:https://www.ville-sainteanne.fr/vivre-a-sainte-anne/culture-dans-la-ville/programme-mensuel-des-animations-de-la-ville/article/culture-dans-la-ville-471?id_evenement=233

STATUS:CONFIRMED
END:VEVENT
END:VCALENDAR

