BEGIN:VCALENDAR
VERSION:2.0
X-WR-TIMEZONE:America/Guadeloupe
CALSCALE:GREGORIAN
PRODID:-//IPEOS/Calendar//NONSGML v1.0//FR
X-WR-CALNAME;VALUE=TEXT:Sainte-Anne - Culture dans la ville - Mai 2018
X-WR-CALDESC:animation\, exposition\, évènements
X-WR-RELCALID:vivre-a-sainte-anne/culture-dans-la-ville/programme-mensuel-des-animations-de-la-ville/article/culture-dans-la-ville-471
BEGIN:VEVENT
SUMMARY:Expo Santé
UID:evenement235 @ https://www.ville-sainteanne.fr
DTSTAMP:20180509T022443Z
DTSTART:20180519T190000Z
DTEND:20180519T223000Z
CREATED:20180509T022443Z
LAST-MODIFIED:20180509T062443Z
LOCATION:Centre culturel et parking
DESCRIPTION:Parcours santé en présence d'association\, médecins et acteurs de la santé
CATEGORIES:Culture dans la ville - Mai 2018
URL:https://www.ville-sainteanne.fr/vivre-a-sainte-anne/culture-dans-la-ville/programme-mensuel-des-animations-de-la-ville/article/culture-dans-la-ville-471?id_evenement=235

STATUS:CONFIRMED
END:VEVENT
END:VCALENDAR

