BEGIN:VCALENDAR
VERSION:2.0
X-WR-TIMEZONE:America/Guadeloupe
CALSCALE:GREGORIAN
PRODID:-//IPEOS/Calendar//NONSGML v1.0//FR
X-WR-CALNAME;VALUE=TEXT:Sainte-Anne - Culture dans la ville - Juin 2018
X-WR-CALDESC:Programme du mois de juin
X-WR-RELCALID:vivre-a-sainte-anne/culture-dans-la-ville/programme-mensuel-des-animations-de-la-ville/article/culture-dans-la-ville-475
BEGIN:VEVENT
SUMMARY:LES ATELIERS EN SCENE
UID:evenement245 @ https://www.ville-sainteanne.fr
DTSTAMP:20180612T184502Z
DTSTART:20180623T193000Z
DTEND:20180623T210000Z
CREATED:20180612T184502Z
LAST-MODIFIED:20180612T225321Z
LOCATION:Centre culturel
DESCRIPTION:Audition de piano Infoline : 0590 85 19 20
CATEGORIES:Culture dans la ville - Juin 2018
URL:https://www.ville-sainteanne.fr/vivre-a-sainte-anne/culture-dans-la-ville/programme-mensuel-des-animations-de-la-ville/article/culture-dans-la-ville-475?id_evenement=245

STATUS:CONFIRMED
END:VEVENT
END:VCALENDAR

