BEGIN:VCALENDAR
VERSION:2.0
X-WR-TIMEZONE:America/Guadeloupe
CALSCALE:GREGORIAN
PRODID:-//IPEOS/Calendar//NONSGML v1.0//FR
X-WR-CALNAME;VALUE=TEXT:Sainte-Anne - CULTURE DANS LA VILLE - Octobre 2018
X-WR-CALDESC: Retrouvez le programme des rendez-vous culturels sur le territoire de Sainte-Anne pour ce mois d’octobre 2018. 
X-WR-RELCALID:vivre-a-sainte-anne/culture-dans-la-ville/programme-mensuel-des-animations-de-la-ville/article/culture-dans-la-ville-octobre-2018
BEGIN:VEVENT
SUMMARY:CULTURE DANS LA VILLE - Octobre 2018
UID:evenement259 @ https://www.ville-sainteanne.fr
DTSTAMP:20181005T135956Z
DTSTART:20181001T120000Z
DTEND:20181101T000000Z
CREATED:20181005T135956Z
LAST-MODIFIED:20181005T180014Z
DESCRIPTION:Tout le mois\, la ville vous propose des rendez-vous culturels sur tout le territoire.
CATEGORIES:CULTURE DANS LA VILLE - Octobre 2018
URL:https://www.ville-sainteanne.fr/vivre-a-sainte-anne/culture-dans-la-ville/programme-mensuel-des-animations-de-la-ville/article/culture-dans-la-ville-octobre-2018?id_evenement=259

STATUS:CONFIRMED
END:VEVENT
END:VCALENDAR

