BEGIN:VCALENDAR
VERSION:2.0
X-WR-TIMEZONE:America/Guadeloupe
CALSCALE:GREGORIAN
PRODID:-//IPEOS/Calendar//NONSGML v1.0//FR
X-WR-CALNAME;VALUE=TEXT:Sainte-Anne - Ville de Sainte-Anne s’engage pour la sécurité
X-WR-CALDESC: Ville de Sainte-Anne s’engage pour la sécurité et vous invite à la journée de sensibilisation qui se déroulera sur son territoire le samedi 13 octobre :     - de 10h à 18h sur la place Schœlcher : 6èmes rencontres de la sécurité avec l’Association Départementale de la Protection Civile     - dès 18h au Centre Culturel : vernissage de l’Expo 57 avec l’association William Errin et l’équipe du Projet 57   Pour plus de détails\, consultez le programme. 
X-WR-RELCALID:vivre-a-sainte-anne/culture-dans-la-ville/centre-culturel/article/ville-de-sainte-anne-s-engage-pour-la-securite
BEGIN:VEVENT
SUMMARY:Ville de Sainte-Anne s'engage pour la sécurité
UID:evenement262 @ https://www.ville-sainteanne.fr
DTSTAMP:20181010T132457Z
DTSTART;VALUE=DATE:20181013
DTEND;VALUE=DATE:20181014
CREATED:20181010T132457Z
LAST-MODIFIED:20240917T222332Z
LOCATION:Place Schœlcher et Centre Culturel
DESCRIPTION:Ville de Sainte-Anne s'engage pour la sécurité et vous invite à la journée de sensibilisation qui se déroulera sur son territoire le samedi 13 octobre : - de 10h à 18h sur la place Schœlcher : 6èmes rencontres de la sécurité avec l'Association Départementale de la Protection Civile - dès 18h au Centre Culturel : vernissage de l'Expo 57 avec l'association William Errin et l'équipe du Projet 57 Pour plus de détails\, consultez le programme.
CATEGORIES:Ville de Sainte-Anne s'engage pour la sécurité
URL:https://www.ville-sainteanne.fr/vivre-a-sainte-anne/culture-dans-la-ville/centre-culturel/article/ville-de-sainte-anne-s-engage-pour-la-securite?id_evenement=262

STATUS:CONFIRMED
END:VEVENT
END:VCALENDAR

