BEGIN:VCALENDAR
VERSION:2.0
X-WR-TIMEZONE:America/Guadeloupe
CALSCALE:GREGORIAN
PRODID:-//IPEOS/Calendar//NONSGML v1.0//FR
X-WR-CALNAME;VALUE=TEXT:Sainte-Anne - DECODEURS CITOYENS
X-WR-CALDESC: Christian BAPTISTE\, Maire de la ville de Sainte-Anne\, invite ses administrés aux réunions publiques "Décodeurs citoyens" qu’il organise sur le territoire.   Ce sera l’occasion de présenter le bilan de l’équipe municipale et d’échanger autour des réalisations déjà effectuées et de celles à venir.   Les réunions se tiendront selon le calendrier suivant :        - Vendredi 19 octobre – 18h30 : Foyer Rachelle Bordelais des Grands-Fonds       - Lundi 22 octobre – 18h30 : Foyer Sergius Geoffroy à (…) 
X-WR-RELCALID:actualites/article/decodeurs-citoyens
BEGIN:VEVENT
SUMMARY:DECODEUR CITOYEN
UID:evenement263 @ https://www.ville-sainteanne.fr
DTSTAMP:20181016T124419Z
DTSTART:20181019T223000Z
DTEND:20181020T003000Z
CREATED:20181016T124419Z
LAST-MODIFIED:20181016T164419Z
LOCATION:Foyer Rachelle Bordelais des Grands-Fonds
DESCRIPTION:Christian BAPTISTE\, Maire de la ville de Sainte-Anne\, invite ses administrés aux réunions publiques « Décodeurs citoyens » qu’il organise sur le territoire. Ce sera l’occasion de présenter le bilan de l’équipe municipale et d’échanger autour des réalisations déjà effectuées et de celles à venir.
CATEGORIES:DECODEURS CITOYENS
URL:https://www.ville-sainteanne.fr/actualites/article/decodeurs-citoyens?id_evenement=263

STATUS:CONFIRMED
END:VEVENT
END:VCALENDAR

