BEGIN:VCALENDAR
VERSION:2.0
X-WR-TIMEZONE:America/Guadeloupe
CALSCALE:GREGORIAN
PRODID:-//IPEOS/Calendar//NONSGML v1.0//FR
X-WR-CALNAME;VALUE=TEXT:Sainte-Anne - RANDO MARCHE - Dimanche 21 octobre 2018
X-WR-CALDESC: La ville de Sainte-Anne vous invite à sa Rando Marche le dimanche 21 octobre :      - RDV à 6h pour un départ à 6h30     - Niveau : débutant et confirmé     - Durée : 2h30 environ   Tenue adaptée à l’activité obligatoire : chaussures fermées\, casquette\, crème solaire  Se munir d’une bouteille d’eau et de fruits secs   En partenariat avec les associations  Les Marcheurs de l’aube  et  An nou maché    Informations et inscriptions à la Direction des affaires sportives : 0590 85 15 55 
X-WR-RELCALID:actualites/article/rando-marche-dimanche-21-octobre-2018
BEGIN:VEVENT
SUMMARY:RANDO MARCHE - Dimanche 21 octobre 2018
UID:evenement271 @ https://www.ville-sainteanne.fr
DTSTAMP:20181016T135533Z
DTSTART:20181021T100000Z
DTEND:20181021T133000Z
CREATED:20181016T135533Z
LAST-MODIFIED:20181016T175658Z
LOCATION:Plage du bourg
DESCRIPTION:– RDV à 6h pour 1 départ à 6h30 - Niveau : débutant et confirmé - Durée : 2h30 environ Tenue adaptée à l'activité obligatoire : chaussures fermées\, casquette\, crème solaire) Se munir d'une bouteille d'eau et de fruits secs Informations et inscriptions à la Direction des affaires sportives : 0590 85 15 55
CATEGORIES:RANDO MARCHE - Dimanche 21 octobre 2018
URL:https://www.ville-sainteanne.fr/actualites/article/rando-marche-dimanche-21-octobre-2018?id_evenement=271

STATUS:CONFIRMED
END:VEVENT
END:VCALENDAR

