BEGIN:VCALENDAR
VERSION:2.0
X-WR-TIMEZONE:America/Guadeloupe
CALSCALE:GREGORIAN
PRODID:-//IPEOS/Calendar//NONSGML v1.0//FR
X-WR-CALNAME;VALUE=TEXT:Sainte-Anne - LES MATINEES SPORTIVES
X-WR-CALDESC: A l’occasion des prochaines vacances scolaires\, la ville de Sainte-Anne organise Les matinées sportives pour les 6-12 ans\, du 22 au 26 octobre de 8h à 11h30 au gymnase de Douville.  Au programme : marche sportive\, boxe thaï\, volley-ball\, handball\, futsal et basket-ball   En partenariat avec les associations  Racin’ Beach​ \,  Intrépide Handball Club \,  JISC Basketball ​\,  Juventus de Sainte-Anne ​ et  Desperados Fighting Club    Informations et inscriptions à la Direction des affaires (…) 
X-WR-RELCALID:actualites/article/les-matinees-sportives
BEGIN:VEVENT
SUMMARY:LES MATINEES SPORTIVES
UID:evenement273 @ https://www.ville-sainteanne.fr
DTSTAMP:20181016T144333Z
DTSTART:20181022T120000Z
DTEND:20181026T153000Z
CREATED:20181016T144333Z
LAST-MODIFIED:20181016T184405Z
LOCATION:Gymnase de Douville
DESCRIPTION:A l’occasion des prochaines vacances scolaires\, la ville de Sainte-Anne organise Les matinées sportives pour les 7-14 ans. Au programme : marche sportive\, boxe thaï\, volley-ball\, handball\, futsal et basket-ball En partenariat avec les associations Racin’ Beach​ \, Intrépide Handball Club \, JISC Basketball ​\, Juventus de Sainte-Anne ​ et Desperados Fighting Club Informations et inscriptions à la Direction des affaires sportives au 0590 85 15 55
CATEGORIES:LES MATINEES SPORTIVES
URL:https://www.ville-sainteanne.fr/actualites/article/les-matinees-sportives?id_evenement=273

STATUS:CONFIRMED
END:VEVENT
END:VCALENDAR

