BEGIN:VCALENDAR
VERSION:2.0
X-WR-TIMEZONE:America/Guadeloupe
CALSCALE:GREGORIAN
PRODID:-//IPEOS/Calendar//NONSGML v1.0//FR
X-WR-CALNAME;VALUE=TEXT:Sainte-Anne - DECODEURS CITOYENS - Lundi 22 octobre 2018 à Fouché
X-WR-CALDESC: Rendez-vous ce lundi 22 octobre à 18h30 à la maison de quartier Sergius Geoffroy à Fouché\, pour une réunion de proximité avec le maire Christian Baptiste et son équipe municipale\, en vue de présenter leur bilan et d’échanger autour des réalisations déjà effectuées et de celles à venir. Il compte sur la présence de tous pour ce moment de participation citoyenne.   Informations à la Direction de la Vie des Quartiers au 0590 23 98 80 
X-WR-RELCALID:actualites/article/decodeurs-citoyens-lundi-22-octobre-2018-a-fouche
BEGIN:VEVENT
SUMMARY:DECODEURS CITOYENS - Lundi 22 octobre 2018 à Fouché
UID:evenement274 @ https://www.ville-sainteanne.fr
DTSTAMP:20181022T142808Z
DTSTART:20181024T223000Z
DTEND:20181025T003000Z
CREATED:20181022T142808Z
LAST-MODIFIED:20181022T182820Z
LOCATION:Maison de quartier Sergius Geoffroy
DESCRIPTION:Réunion de proximité en vue de présenter le bilan de l’équipe municipale et d’échanger autour des réalisations déjà effectuées et de celles à venir.
CATEGORIES:DECODEURS CITOYENS - Lundi 22 octobre 2018 à Fouché
URL:https://www.ville-sainteanne.fr/actualites/article/decodeurs-citoyens-lundi-22-octobre-2018-a-fouche?id_evenement=274

STATUS:CONFIRMED
END:VEVENT
END:VCALENDAR

