BEGIN:VCALENDAR
VERSION:2.0
X-WR-TIMEZONE:America/Guadeloupe
CALSCALE:GREGORIAN
PRODID:-//IPEOS/Calendar//NONSGML v1.0//FR
X-WR-CALNAME;VALUE=TEXT:Sainte-Anne - Réunion publique avec les sénateurs Victoire Jasmin et Victorin Lurel
X-WR-CALDESC: Dans le cadre de leur mission parlementaire\, les sénateurs Victoire Jasmin et Victorin Lurel rencontreront les élus du conseil municipal de Sainte-Anne le vendredi 26 octobre 2018 à 17h à la salle de délibérations de l’Hôtel de Ville.  Cette rencontre est ouverte au public qui pourra participer au débat. 
X-WR-RELCALID:actualites/article/reunion-publique-avec-les-senateurs-victoire-jasmin-et-victorin-lurel
BEGIN:VEVENT
SUMMARY:Réunion publique avec les sénateurs Victoire Jasmin et Victorin Lurel
UID:evenement276 @ https://www.ville-sainteanne.fr
DTSTAMP:20181023T202811Z
DTSTART:20181026T210000Z
DTEND:20181026T230000Z
CREATED:20181023T202811Z
LAST-MODIFIED:20181024T002850Z
LOCATION:Salle de délibérations de l’Hôtel de Ville
DESCRIPTION:Dans le cadre de leur mission parlementaire\, les sénateurs Victoire Jasmin et Victorin Lurel rencontreront les élus du conseil municipal de Sainte-Anne. Cette rencontre est ouverte au public qui pourra participer au débat.
CATEGORIES:Réunion publique avec les sénateurs Victoire Jasmin et Victorin Lurel
URL:https://www.ville-sainteanne.fr/actualites/article/reunion-publique-avec-les-senateurs-victoire-jasmin-et-victorin-lurel?id_evenement=276

STATUS:CONFIRMED
END:VEVENT
END:VCALENDAR

