BEGIN:VCALENDAR
VERSION:2.0
X-WR-TIMEZONE:America/Guadeloupe
CALSCALE:GREGORIAN
PRODID:-//IPEOS/Calendar//NONSGML v1.0//FR
X-WR-CALNAME;VALUE=TEXT:Sainte-Anne - CULTURE DANS LA VILLE - On ti kozé évè M’Bitako
X-WR-CALDESC: Vil Sentann ka envité zòt vin adan on ti kozé M’BITAKO ka fè - adan lang gwadloup – lantou woman "La Vie Scélérate" a Maryse CONDÉ pou gloriyé prèstans a gran makèdpawòl an-nou-lasa. Sa ka fèt Médyatèk Sentann\, Vantrédi 26 Òktòb 2018 - a 7tèdswa.  Enfòmasyon o 0590 85 19 20 oben o 0590 68 63 80. 
X-WR-RELCALID:vivre-a-sainte-anne/culture-dans-la-ville/programme-mensuel-des-animations-de-la-ville/article/culture-dans-la-ville-on-ti-koze-eve-m-bitako
BEGIN:VEVENT
SUMMARY:CULTURE DANS LA VILLE - On ti Kozé évè M'Bitako
UID:evenement277 @ https://www.ville-sainteanne.fr
DTSTAMP:20181023T205026Z
DTSTART:20181026T230000Z
DTEND:20181027T010000Z
CREATED:20181023T205026Z
LAST-MODIFIED:20181024T005048Z
LOCATION:Médyatèk Sentann
DESCRIPTION:Vil Sentann ka envité zòt vin adan on ti kozé M'BITAKO ka fè - adan lang gwadloup – lantou woman "La Vie Scélérate" a Maryse CONDÉ pou gloriyé prèstans a gran makèdpawòl an-nou-lasa. Enfòmasyon o 0590 85 19 20 oben o 0590 68 63 80.
CATEGORIES:CULTURE DANS LA VILLE - On ti kozé évè M'Bitako
URL:https://www.ville-sainteanne.fr/vivre-a-sainte-anne/culture-dans-la-ville/programme-mensuel-des-animations-de-la-ville/article/culture-dans-la-ville-on-ti-koze-eve-m-bitako?id_evenement=277

STATUS:CONFIRMED
END:VEVENT
END:VCALENDAR

