BEGIN:VCALENDAR
VERSION:2.0
X-WR-TIMEZONE:America/Guadeloupe
CALSCALE:GREGORIAN
PRODID:-//IPEOS/Calendar//NONSGML v1.0//FR
X-WR-CALNAME;VALUE=TEXT:Sainte-Anne - FERMETURE EXCEPTIONNELLE DES SERVICES MUNICIPAUX
X-WR-CALDESC: A l’occasion du "Village Santé" qu’il organise à l’attention des agents communaux\, le maire Christian Baptiste informe la population de la fermeture exceptionnelle des services municipaux le mercredi 31 octobre 2018.  Il compte sur la compréhension de tous et vous prie de l’excuser pour la gêne occasionnée. 
X-WR-RELCALID:actualites/article/fermeture-exceptionnelle-des-services-municipaux-565
BEGIN:VEVENT
SUMMARY:FERMETURE EXCEPTIONNELLE DES SERVICES MUNICIPAUX
UID:evenement278 @ https://www.ville-sainteanne.fr
DTSTAMP:20181025T133030Z
DTSTART:20181031T113000Z
DTEND:20181031T170000Z
CREATED:20181025T133030Z
LAST-MODIFIED:20181025T173057Z
DESCRIPTION:A l’occasion du "Village Santé" qu’il organise à l’attention des agents communaux\, le maire Christian Baptiste informe la population de la fermeture exceptionnelle des services municipaux le mercredi 31 octobre 2018. Il compte sur la compréhension de tous et vous prie de l’excuser pour la gêne occasionnée.
CATEGORIES:FERMETURE EXCEPTIONNELLE DES SERVICES MUNICIPAUX
URL:https://www.ville-sainteanne.fr/actualites/article/fermeture-exceptionnelle-des-services-municipaux-565?id_evenement=278

STATUS:CONFIRMED
END:VEVENT
END:VCALENDAR

