BEGIN:VCALENDAR
VERSION:2.0
X-WR-TIMEZONE:America/Guadeloupe
CALSCALE:GREGORIAN
PRODID:-//IPEOS/Calendar//NONSGML v1.0//FR
X-WR-CALNAME;VALUE=TEXT:Sainte-Anne - Karav’Anim - 2ème étape !
X-WR-CALDESC: Pour sa 2ème étape\, la Karav’Anim s’arrêtera le vendredi 26 octobre 2018 de 9h à 12h30 à l’école de Bel-Etang !  Ouvert aux enfants de 4 à 15 ans\, entrée libre et gratuite !  Au programme : contes\, jeux de mots\, loisirs créatifs\, course de roue de vélo\, course d’obstacles\, expression vocale et corporelle\, atelier dessin et peinture\, flûte à bec.   INFOLINE  Direction des Affaires Culturelles : 0590 85 19 20 
X-WR-RELCALID:vivre-a-sainte-anne/culture-dans-la-ville/fetes-de-sections/article/karav-anim-2eme-etape
BEGIN:VEVENT
SUMMARY:KARAV'ANIM - 2ème étape !
UID:evenement279 @ https://www.ville-sainteanne.fr
DTSTAMP:20181025T201351Z
DTSTART:20181026T130000Z
DTEND:20181026T163000Z
CREATED:20181025T201351Z
LAST-MODIFIED:20181026T001421Z
LOCATION:Ecole de Bel-Etang
DESCRIPTION:Ouvert aux enfants de 4 à 15 ans\, entrée libre et gratuite ! Au programme : contes\, jeux de mots\, loisirs créatifs\, course de roue de vélo\, course d'obstacles\, expression vocale et corporelle\, atelier dessin et peinture\, flûte à bec. INFOLINE Direction des Affaires Culturelles : 0590 85 19 20
CATEGORIES:Karav'Anim - 2ème étape !
URL:https://www.ville-sainteanne.fr/vivre-a-sainte-anne/culture-dans-la-ville/fetes-de-sections/article/karav-anim-2eme-etape?id_evenement=279

STATUS:CONFIRMED
END:VEVENT
END:VCALENDAR

