BEGIN:VCALENDAR
VERSION:2.0
X-WR-TIMEZONE:America/Guadeloupe
CALSCALE:GREGORIAN
PRODID:-//IPEOS/Calendar//NONSGML v1.0//FR
X-WR-CALNAME;VALUE=TEXT:Sainte-Anne - CONSEIL MUNICIPAL
X-WR-CALDESC:Mardi 30 octobre 2018
X-WR-RELCALID:la-mairie/le-conseil-municipal/agenda/article/conseil-municipal-du-mardi-30-octobre-2018
BEGIN:VEVENT
SUMMARY:CONSEIL MUNICIPAL
UID:evenement280 @ https://www.ville-sainteanne.fr
DTSTAMP:20181029T112018Z
DTSTART:20181030T210000Z
DTEND:20181031T000000Z
CREATED:20181029T112018Z
LAST-MODIFIED:20181029T152154Z
LOCATION:Salle de délibérations de l'Hôtel de Ville
DESCRIPTION:Ordre du jour : - Communication de l’avis de la Chambre Régionale des Comptes sur le compte administratif 2017 et le budget primitif 2018 - Communication de l’avis préfectoral du 20 septembre 2018 portant règlement du budget primitif 2018 et la décision modificative n°1 - Acquisition de parcelles cadastrées à Dubellay - Portage financier par l’Établissement - Public Foncier Local de Guadeloupe - Amélioration de l’animation de la pause méridienne - Nouvelle organisation du temps de travail des agents du Pôle Enfance et Éducation - Ajustement de l’organigramme
CATEGORIES:CONSEIL MUNICIPAL
URL:https://www.ville-sainteanne.fr/la-mairie/le-conseil-municipal/agenda/article/conseil-municipal-du-mardi-30-octobre-2018?id_evenement=280

STATUS:CONFIRMED
END:VEVENT
END:VCALENDAR

