BEGIN:VCALENDAR
VERSION:2.0
X-WR-TIMEZONE:America/Guadeloupe
CALSCALE:GREGORIAN
PRODID:-//IPEOS/Calendar//NONSGML v1.0//FR
X-WR-CALNAME;VALUE=TEXT:Sainte-Anne - CULTURE DANS LA VILLE - Décembre 2018
X-WR-CALDESC: Retrouvez le programme des rendez-vous culturels sur le territoire de Sainte-Anne pour clôturer l’année 2018. 
X-WR-RELCALID:vivre-a-sainte-anne/culture-dans-la-ville/programme-mensuel-des-animations-de-la-ville/article/culture-dans-la-ville-decembre-2018
BEGIN:VEVENT
SUMMARY:CLUB DE LECTURE "LiRE ENTRE NOUS"
UID:evenement282 @ https://www.ville-sainteanne.fr
DTSTAMP:20181219T133520Z
DTSTART:20181229T133000Z
DTEND:20181229T163000Z
CREATED:20181219T133520Z
LAST-MODIFIED:20191223T221214Z
LOCATION:Bibliothèque Osange Talis Gane
DESCRIPTION:En toute convivialité\, venez partager vos lectures et échanger vos impressions\, vos critiques littéraires avec les autres participants. Joli moment de partage avec l'association LIRE IMAGINER VIVRE. Entrée libre et gratuite Infoline 0590 68 63 80 En toute convivialité\, venez partager vos lectures et échanger vos impressions\, vos critiques littéraires avec les autres participants. Joli moment de partage avec l'association LIRE IMAGINER VIVRE. Entrée libre et gratuite Infoline 0590 68 63 80 
CATEGORIES:CULTURE DANS LA VILLE - Décembre 2018
URL:https://www.ville-sainteanne.fr/vivre-a-sainte-anne/culture-dans-la-ville/programme-mensuel-des-animations-de-la-ville/article/culture-dans-la-ville-decembre-2018?id_evenement=282

STATUS:CONFIRMED
END:VEVENT
END:VCALENDAR

