BEGIN:VCALENDAR
VERSION:2.0
X-WR-TIMEZONE:America/Guadeloupe
CALSCALE:GREGORIAN
PRODID:-//IPEOS/Calendar//NONSGML v1.0//FR
X-WR-CALNAME;VALUE=TEXT:Sainte-Anne - CULTURE DANS LA VILLE - Décembre 2018
X-WR-CALDESC: Retrouvez le programme des rendez-vous culturels sur le territoire de Sainte-Anne pour clôturer l’année 2018. 
X-WR-RELCALID:vivre-a-sainte-anne/culture-dans-la-ville/programme-mensuel-des-animations-de-la-ville/article/culture-dans-la-ville-decembre-2018
BEGIN:VEVENT
SUMMARY:100 CADEAUX POUR LES SANS CADEAUX
UID:evenement284 @ https://www.ville-sainteanne.fr
DTSTAMP:20181219T134245Z
DTSTART:20181222T150000Z
DTEND:20181223T010000Z
CREATED:20181219T134245Z
LAST-MODIFIED:20181219T174245Z
LOCATION:Plage du bourg
DESCRIPTION:Avec les associations Sentann TV et Intrépide Futsal PORGRAMME 11h : accueil des participants 12h : repas 16h : goûter 17h30 : remise des cadeaux 19h : artistes invités et live Infoline : 0690 93 08 95
CATEGORIES:CULTURE DANS LA VILLE - Décembre 2018
URL:https://www.ville-sainteanne.fr/vivre-a-sainte-anne/culture-dans-la-ville/programme-mensuel-des-animations-de-la-ville/article/culture-dans-la-ville-decembre-2018?id_evenement=284

STATUS:CONFIRMED
END:VEVENT
END:VCALENDAR

