BEGIN:VCALENDAR
VERSION:2.0
X-WR-TIMEZONE:America/Guadeloupe
CALSCALE:GREGORIAN
PRODID:-//IPEOS/Calendar//NONSGML v1.0//FR
X-WR-CALNAME;VALUE=TEXT:Sainte-Anne - CULTURE DANS LA VILLE - Décembre 2018
X-WR-CALDESC: Retrouvez le programme des rendez-vous culturels sur le territoire de Sainte-Anne pour clôturer l’année 2018. 
X-WR-RELCALID:vivre-a-sainte-anne/culture-dans-la-ville/programme-mensuel-des-animations-de-la-ville/article/culture-dans-la-ville-decembre-2018
BEGIN:VEVENT
SUMMARY:RENCONTRE AVEC LE PERE NOEL
UID:evenement285 @ https://www.ville-sainteanne.fr
DTSTAMP:20181219T135607Z
DTSTART:20181222T130000Z
DTEND:20181222T210000Z
CREATED:20181219T135607Z
LAST-MODIFIED:20181219T175607Z
LOCATION:Place Schœlcher
DESCRIPTION:" Chers enfants\, Pour votre plus grand plaisir\, je serai présent sur la place Schœlcher de 9h à 17h. Apportez-moi vos lettres ! A cette occasion\, vos parents pourrons vous prendre en photo en ma compagnie ! " Le Père Noël Avec l'association Event Projects Services Infoline : 0690 00 74 64 NB : une interruption est prévue entre 13h et 15h
CATEGORIES:CULTURE DANS LA VILLE - Décembre 2018
URL:https://www.ville-sainteanne.fr/vivre-a-sainte-anne/culture-dans-la-ville/programme-mensuel-des-animations-de-la-ville/article/culture-dans-la-ville-decembre-2018?id_evenement=285

STATUS:CONFIRMED
END:VEVENT
END:VCALENDAR

