BEGIN:VCALENDAR
VERSION:2.0
X-WR-TIMEZONE:America/Guadeloupe
CALSCALE:GREGORIAN
PRODID:-//IPEOS/Calendar//NONSGML v1.0//FR
X-WR-CALNAME;VALUE=TEXT:Sainte-Anne - CULTURE DANS LA VILLE - Décembre 2018
X-WR-CALDESC: Retrouvez le programme des rendez-vous culturels sur le territoire de Sainte-Anne pour clôturer l’année 2018. 
X-WR-RELCALID:vivre-a-sainte-anne/culture-dans-la-ville/programme-mensuel-des-animations-de-la-ville/article/culture-dans-la-ville-decembre-2018
BEGIN:VEVENT
SUMMARY:MILH SHAKE ET CHEESE BURGER
UID:evenement287 @ https://www.ville-sainteanne.fr
DTSTAMP:20181219T140609Z
DTSTART:20181215T220000Z
DTEND:20181216T000000Z
CREATED:20181219T140609Z
LAST-MODIFIED:20181219T180609Z
LOCATION:Salle polyvalente des écoles mixtes 1 et 2
DESCRIPTION:Représentation théâtrale avec la troupe du SOLEY Résumé : La princesse Victoria est amoureuse du prince Philippe de France\, mais celui-ci ne pense qu'à faire la guerre. La tension est à son comble entre les deux familles royales. Fées et devins devront s'associer pour aider Victoria à réaliser son projet. Public : enfants à partir de 7 ans Participation gratuite - inscription conseillée
CATEGORIES:CULTURE DANS LA VILLE - Décembre 2018
URL:https://www.ville-sainteanne.fr/vivre-a-sainte-anne/culture-dans-la-ville/programme-mensuel-des-animations-de-la-ville/article/culture-dans-la-ville-decembre-2018?id_evenement=287

STATUS:CONFIRMED
END:VEVENT
END:VCALENDAR

