BEGIN:VCALENDAR
VERSION:2.0
X-WR-TIMEZONE:America/Guadeloupe
CALSCALE:GREGORIAN
PRODID:-//IPEOS/Calendar//NONSGML v1.0//FR
X-WR-CALNAME;VALUE=TEXT:Sainte-Anne - CULTURE DANS LA VILLE - Décembre 2018
X-WR-CALDESC: Retrouvez le programme des rendez-vous culturels sur le territoire de Sainte-Anne pour clôturer l’année 2018. 
X-WR-RELCALID:vivre-a-sainte-anne/culture-dans-la-ville/programme-mensuel-des-animations-de-la-ville/article/culture-dans-la-ville-decembre-2018
BEGIN:VEVENT
SUMMARY:LAWONN A TI MOUN
UID:evenement293 @ https://www.ville-sainteanne.fr
DTSTAMP:20181219T142218Z
DTSTART:20181215T130000Z
DTEND:20181215T160000Z
CREATED:20181219T142218Z
LAST-MODIFIED:20181219T182218Z
LOCATION:Place Schœlcher
DESCRIPTION:avec l'association Lakou Veranda Infoline : 0690 42 60 90 - 0690 91 55 51 - 0690 32 66 82
CATEGORIES:CULTURE DANS LA VILLE - Décembre 2018
URL:https://www.ville-sainteanne.fr/vivre-a-sainte-anne/culture-dans-la-ville/programme-mensuel-des-animations-de-la-ville/article/culture-dans-la-ville-decembre-2018?id_evenement=293

STATUS:CONFIRMED
END:VEVENT
END:VCALENDAR

