BEGIN:VCALENDAR
VERSION:2.0
X-WR-TIMEZONE:America/Guadeloupe
CALSCALE:GREGORIAN
PRODID:-//IPEOS/Calendar//NONSGML v1.0//FR
X-WR-CALNAME;VALUE=TEXT:Sainte-Anne - Conseil Municipal
X-WR-CALDESC:Vendredi 18 Janvier 2019
X-WR-RELCALID:la-mairie/le-conseil-municipal/agenda/article/conseil-municipal-580
BEGIN:VEVENT
SUMMARY:Conseil Municipal
UID:evenement295 @ https://www.ville-sainteanne.fr
DTSTAMP:20190114T150731Z
DTSTART:20190118T220000Z
DTEND:20190119T010000Z
CREATED:20190114T150731Z
LAST-MODIFIED:20190114T191106Z
LOCATION:Salle de délibération de l'Hotel de Ville
DESCRIPTION:Ordre du jour : – Approbation du procès-verbal du 28 novembre 2018 – Retrait de délégation à un adjoint et décision du Conseil Municipal pour le maintien ou pas de l’adjoint dans ses fonctions – Election du 4ème adjoint au maire – Décision modificative n°2 du budget primitif 2018 – Dépenses d’investissement à réaliser avant le vote du budget primitif 2019 – Modification des horaires de fonctionnement du poste de secours – Modification du tableau des effectifs du personnel communal – Création d’un Conseil Des Sages Le maire compte sur votre présence.
CATEGORIES:Conseil Municipal
URL:https://www.ville-sainteanne.fr/la-mairie/le-conseil-municipal/agenda/article/conseil-municipal-580?id_evenement=295

STATUS:CONFIRMED
END:VEVENT
END:VCALENDAR

