BEGIN:VCALENDAR
VERSION:2.0
X-WR-TIMEZONE:America/Guadeloupe
CALSCALE:GREGORIAN
PRODID:-//IPEOS/Calendar//NONSGML v1.0//FR
X-WR-CALNAME;VALUE=TEXT:Sainte-Anne - CEREMONIE DES VOEUX AUX FORCES VIVES
X-WR-CALDESC: Christian BAPTISTE\, maire de la ville de Sainte-Anne\, et son Conseil municipal invitent les forces vives du territoire (associations\, acteurs économiques et corps constitués) à la cérémonie des vœux qui se tiendra le lundi 28 janvier à 18h30 au réfectoire scolaire de Valette.  Les personnes concernées sont priées de confirmer leur présence au 0590 85 48 70 ou par mail à l’adresse cabinet.maire chez ville-sainteanne.fr. 
X-WR-RELCALID:actualites/article/ceremonie-des-voeux-aux-forces-vives
BEGIN:VEVENT
SUMMARY:CEREMONIE DES VOEUX AUX FORCES VIVES
UID:evenement297 @ https://www.ville-sainteanne.fr
DTSTAMP:20190114T193815Z
DTSTART:20190128T223000Z
DTEND:20190129T010000Z
CREATED:20190114T193815Z
LAST-MODIFIED:20190114T234118Z
LOCATION:Réfectoire scolaire de Valette
DESCRIPTION:Christian BAPTISTE\, maire de la ville de Sainte-Anne\, et son Conseil municipal présenteront leurs vœux aux forces vives du territoire (associations\, acteurs économiques et corps constitués) au cours d'une cérémonie. Les personnes concernées sont priées de confirmer leur présence au 0590 85 48 70 ou par mail à l’adresse cabinet.maire chez ville-sainteanne.fr.
CATEGORIES:CEREMONIE DES VOEUX AUX FORCES VIVES
URL:https://www.ville-sainteanne.fr/actualites/article/ceremonie-des-voeux-aux-forces-vives?id_evenement=297

STATUS:CONFIRMED
END:VEVENT
END:VCALENDAR

