BEGIN:VCALENDAR
VERSION:2.0
X-WR-TIMEZONE:America/Guadeloupe
CALSCALE:GREGORIAN
PRODID:-//IPEOS/Calendar//NONSGML v1.0//FR
X-WR-CALNAME;VALUE=TEXT:Sainte-Anne - MASANBLAJ A PO
X-WR-CALDESC: Venez participer ou assister au grand déboulé nocturne de Groupe a Po prévu le vendredi 1er février à Sainte-Anne. Rendez-vous à 19h au parking du complexe sportif Hector Grandman de Ffrench.   Partenariat entre la Ville de Sainte-Anne\, la Riviera du Levant\, la Fédération Guadeloupéenne du Carnaval\, le Komité Kannaval Sentann et l’Office de Tourisme Intercommunal de la Riviera du Levant. 
X-WR-RELCALID:actualites/article/masanblaj-a-po
BEGIN:VEVENT
SUMMARY:MASANBLAJ A PO
UID:evenement299 @ https://www.ville-sainteanne.fr
DTSTAMP:20190123T142328Z
DTSTART:20190201T230000Z
DTEND:20190202T030000Z
CREATED:20190123T142328Z
LAST-MODIFIED:20190123T182702Z
LOCATION:Départ au parking du complexe sportif Hector Grandman de Ffrench.
DESCRIPTION:Venez participer ou assister au grand déboulé nocturne de Groupe a Po prévu le vendredi 1er février à Sainte-Anne. Partenariat entre la Ville de Sainte-Anne\, la Riviera du Levant\, la Fédération Guadeloupéenne du Carnaval\, le Komité Kannaval Sentann et l’Office de Tourisme Intercommunal de la Riviera du Levant.
CATEGORIES:MASANBLAJ A PO
URL:https://www.ville-sainteanne.fr/actualites/article/masanblaj-a-po?id_evenement=299

STATUS:CONFIRMED
END:VEVENT
END:VCALENDAR

