BEGIN:VCALENDAR
VERSION:2.0
X-WR-TIMEZONE:America/Guadeloupe
CALSCALE:GREGORIAN
PRODID:-//IPEOS/Calendar//NONSGML v1.0//FR
X-WR-CALNAME;VALUE=TEXT:Sainte-Anne - APPEL A PROJETS ASSOCIATIFS
X-WR-CALDESC: M. Christian BAPTISTE\, Maire de la ville de Sainte-Anne  informe les présidents d’associations du lancement de l’appel à projets relatif à l’attribution de subvention.   Pour être éligible\, l’association doit : être une association dite loi 1901 dûment déclarée en Préfecture\, avoir son siège social et/ou exercer son activité principale sur le territoire communal\, avoir des activités conformes à la politique générale de la commune\,   Pour information\, les associations à but politique ou (…) 
X-WR-RELCALID:actualites/article/appel-a-projets-associatifs
BEGIN:VEVENT
SUMMARY:Jédi a Bokantaj - Spécial Appel à projets et subventions
UID:evenement300 @ https://www.ville-sainteanne.fr
DTSTAMP:20190129T162020Z
DTSTART:20190131T223000Z
DTEND:20190201T003000Z
CREATED:20190129T162020Z
LAST-MODIFIED:20190129T202441Z
LOCATION:Centre Culturel
DESCRIPTION:Christian BAPTISTE\, Maire de la ville de Sainte-Anne\, invite tous les responsables associatifs intéressés à participer au Jédi a bokantaj pou asosyason - spécial Appel à projets et subventions\, qui sera organisé le jeudi 31 janvier 2019 à 18h30 au Centre Culturel de Sainte-Anne. Pour tout renseignement\, contacter le Centre de Ressources au 0590214929
CATEGORIES:APPEL A PROJETS ASSOCIATIFS
URL:https://www.ville-sainteanne.fr/actualites/article/appel-a-projets-associatifs?id_evenement=300

STATUS:CONFIRMED
END:VEVENT
END:VCALENDAR

