BEGIN:VCALENDAR
VERSION:2.0
X-WR-TIMEZONE:America/Guadeloupe
CALSCALE:GREGORIAN
PRODID:-//IPEOS/Calendar//NONSGML v1.0//FR
X-WR-CALNAME;VALUE=TEXT:Sainte-Anne - DECODEURS CITOYENS
X-WR-CALDESC: Le maire Christian Baptiste et son équipe municipale vous donnent rendez-vous le mardi 5 février à 18h30 à l’école Florent Donnat de Saint-Protais et le mardi 19 février à 18h30 à l’école Gontran Jighaï de Richeplaine\, pour deux réunions de proximité\, en vue de présenter leur bilan et d’échanger autour des réalisations déjà effectuées et de celles à venir. Il compte sur la présence de tous pour ce moment de participation citoyenne.   Informations à la Direction de la Vie des Quartiers au (…) 
X-WR-RELCALID:actualites/article/decodeurs-citoyens-mardis-5-et-19-fevrier-2019
BEGIN:VEVENT
SUMMARY:Décodeurs citoyens - mardi 19 février 2019
UID:evenement302 @ https://www.ville-sainteanne.fr
DTSTAMP:20190129T170535Z
DTSTART:20190219T223000Z
DTEND:20190220T003000Z
CREATED:20190129T170535Z
LAST-MODIFIED:20190129T210630Z
LOCATION:Ecole Gontran Jighaï
DESCRIPTION:Réunion de proximité avec le maire Christian Baptiste et son équipe municipale\, en vue de présenter leur bilan et d’échanger autour des réalisations déjà effectuées et de celles à venir. Informations à la Direction de la Vie des Quartiers au 0590 23 98 80
CATEGORIES:DECODEURS CITOYENS
URL:https://www.ville-sainteanne.fr/actualites/article/decodeurs-citoyens-mardis-5-et-19-fevrier-2019?id_evenement=302

STATUS:CONFIRMED
END:VEVENT
END:VCALENDAR

