BEGIN:VCALENDAR
VERSION:2.0
X-WR-TIMEZONE:America/Guadeloupe
CALSCALE:GREGORIAN
PRODID:-//IPEOS/Calendar//NONSGML v1.0//FR
X-WR-CALNAME;VALUE=TEXT:Sainte-Anne - REUNION DE QUARTIER
X-WR-CALDESC: Le maire Christian Baptiste convie les habitants de Bel-Etang à la réunion de quartier qu’il organise le vendredi 15 février 2019 à 18h30 au réfectoire de l’école Rigobert Anzala.  La réunion portera sur le projet d’aménagement de l’école et du terrain de foot. 
X-WR-RELCALID:actualites/article/reunion-de-quartier
BEGIN:VEVENT
SUMMARY:REUNION DE QUARTIER - Bel-Etang
UID:evenement303 @ https://www.ville-sainteanne.fr
DTSTAMP:20190212T152347Z
DTSTART:20190215T223000Z
DTEND:20190216T003000Z
CREATED:20190212T152347Z
LAST-MODIFIED:20190212T192401Z
LOCATION:Réfectoire de l'école Rigobert Anzala
DESCRIPTION:Le maire Christian Baptiste convie les habitants de Bel-Etang à la réunion de quartier qu'il organise à propos du projet d'aménagement de l'école et du terrain de foot.
CATEGORIES:REUNION DE QUARTIER
URL:https://www.ville-sainteanne.fr/actualites/article/reunion-de-quartier?id_evenement=303

STATUS:CONFIRMED
END:VEVENT
END:VCALENDAR

