BEGIN:VCALENDAR
VERSION:2.0
X-WR-TIMEZONE:America/Guadeloupe
CALSCALE:GREGORIAN
PRODID:-//IPEOS/Calendar//NONSGML v1.0//FR
X-WR-CALNAME;VALUE=TEXT:Sainte-Anne - APPEL A PROJETS ASSOCIATIFS
X-WR-CALDESC: A l’attention des présidents d’associations   Pour rappel\, les dossiers de demande de subventions pour l’année 2019 devront parvenir au service courrier au plus tard le 28 février 2019\, délai de rigueur.   Vous trouverez ci-dessous le dossier de demande de subvention 2019 à télécharger et à remplir directement avant impression. A toute fin utile\, vous trouverez dans les annexes un extrait de la délibération du Conseil Municipal du 27 juin 2018\, relative à la valorisation de biens municipaux (…) 
X-WR-RELCALID:actualites/article/appel-a-projets-associatifs-604
BEGIN:VEVENT
SUMMARY:Formation "Monter votre dossier de subvention cerfa" - CARL/DLA
UID:evenement305 @ https://www.ville-sainteanne.fr
DTSTAMP:20190213T134137Z
DTSTART:20190215T123000Z
DTEND:20190215T203000Z
CREATED:20190213T134137Z
LAST-MODIFIED:20190213T175012Z
LOCATION:Centre de ressources
DESCRIPTION:La Communauté d'agglomération RIVIERA DU LEVANT en lien avec le DLA vous propose une session de formation intitulée " Monter votre dossier de subvention cerfa" jeudi 14 (8h30-16h30) et vendredi 15 février (8h30-12h30) à l'auditorium du Centre de Ressources. Inscription obligatoire au 0590685832.
CATEGORIES:APPEL A PROJETS ASSOCIATIFS
URL:https://www.ville-sainteanne.fr/actualites/article/appel-a-projets-associatifs-604?id_evenement=305

STATUS:CONFIRMED
END:VEVENT
END:VCALENDAR

