BEGIN:VCALENDAR
VERSION:2.0
X-WR-TIMEZONE:America/Guadeloupe
CALSCALE:GREGORIAN
PRODID:-//IPEOS/Calendar//NONSGML v1.0//FR
X-WR-CALNAME;VALUE=TEXT:Sainte-Anne - LANCEMENT DU PORTAIL FAMILLES
X-WR-CALDESC: Christian Baptiste\, maire de la ville de Sainte-Anne\, est heureux d’annoncer le lancement du portail-familles\, nouvel outil facilitateur de la relation avec les familles. En effet\, à compter du lundi 18 février 2019\, les parents des enfants scolarisés dans les écoles saintannaises ou inscrits à la crèche municipale pourront se rendre sur le site internet  sainteanne.portail-familles.com  pour payer en ligne leurs factures (crèche\, restauration ou de transport scolaires).   Pour tout (…) 
X-WR-RELCALID:actualites/article/lancement-du-portail-familles
BEGIN:VEVENT
SUMMARY:LANCEMENT DU PORTAIL FAMILLES
UID:evenement306 @ https://www.ville-sainteanne.fr
DTSTAMP:20190213T173528Z
DTSTART;VALUE=DATE:20190218
DTEND;VALUE=DATE:20190219
CREATED:20190213T173528Z
LAST-MODIFIED:20240917T222332Z
DESCRIPTION:Parents\, grâce au portail-familles\, nouvel outil facilitateur de la relation avec les familles\, payez désormais vos factures de crèche\, de restauration ou de transport scolaires directement en ligne sur le site https://sainteanne.portail-familles.com
CATEGORIES:LANCEMENT DU PORTAIL FAMILLES
URL:https://www.ville-sainteanne.fr/actualites/article/lancement-du-portail-familles?id_evenement=306

STATUS:CONFIRMED
END:VEVENT
END:VCALENDAR

