BEGIN:VCALENDAR
VERSION:2.0
X-WR-TIMEZONE:America/Guadeloupe
CALSCALE:GREGORIAN
PRODID:-//IPEOS/Calendar//NONSGML v1.0//FR
X-WR-CALNAME;VALUE=TEXT:Sainte-Anne - Sport Dans la Ville
X-WR-CALDESC: Découvrez le programme mensuel des animations sportives de la Ville de Sainte-Anne.    A l’instar du CDV (Culture Dans la Ville) au sein duquel nous regroupons les animations culturelles de la ville\, le SDV (Sport Dans la Ville ) est le programme d’animations (déployées sur le territoire) regroupant les activités sportives proposées par la Ville de Sainte-Anne\, les associations et les ligues sportives. 
X-WR-RELCALID:vivre-a-sainte-anne/sports-et-loisirs-dans-la-ville/animation-sportive/article/sport-dans-la-ville
BEGIN:VEVENT
SUMMARY:MATINEES SPORTIVES SPORTNAVAL
UID:evenement307 @ https://www.ville-sainteanne.fr
DTSTAMP:20190218T182622Z
DTSTART:20190225T123000Z
DTEND:20190227T153000Z
CREATED:20190218T182622Z
LAST-MODIFIED:20190409T191448Z
LOCATION:Stade municipal
DESCRIPTION:Animations gratuites pour les enfants de 6 à 14 ans Programme : activités innovantes (crosse québécoise\, Molky\, Poull Ball)\, sports collectifs (basket-ball\, handball sur gazon\, football)\, défis sportifs et zumba carnavalesque.
CATEGORIES:Sport Dans la Ville
URL:https://www.ville-sainteanne.fr/vivre-a-sainte-anne/sports-et-loisirs-dans-la-ville/animation-sportive/article/sport-dans-la-ville?id_evenement=307

STATUS:CONFIRMED
END:VEVENT
END:VCALENDAR

