BEGIN:VCALENDAR
VERSION:2.0
X-WR-TIMEZONE:America/Guadeloupe
CALSCALE:GREGORIAN
PRODID:-//IPEOS/Calendar//NONSGML v1.0//FR
X-WR-CALNAME;VALUE=TEXT:Sainte-Anne - LES DACTYLOS
X-WR-CALDESC: Ville de Sainte-Anne vous invite au spectacle de rue "Les dactylos"\, proposé par la compagnie théâtrale OXYMORE et qui aura lieu le mercredi 20 février 2019 à 14h30 sur la place Schœlcher.  Venez nombreux assister et participer à ce spectacle innovant\, inédit et gratuit.   Le spectacle "Les Dactylos" est une intervention artistique animée par 2 personnages burlesques tout droit sortis des années 50. Ils abordent les passants en leur proposant de recevoir une lettre écrite quelque part\, par (…) 
X-WR-RELCALID:actualites/article/les-dactylos
BEGIN:VEVENT
SUMMARY:LES DACTYLOS
UID:evenement308 @ https://www.ville-sainteanne.fr
DTSTAMP:20190218T184927Z
DTSTART:20190220T183000Z
DTEND:20190220T200000Z
CREATED:20190218T184927Z
LAST-MODIFIED:20190218T225826Z
LOCATION:Place Schœlcher
DESCRIPTION:Le spectacle "Les Dactylos" est une intervention artistique animée par 2 personnages burlesques tout droit sortis des années 50. Ils abordent les passants en leur proposant de recevoir une lettre écrite quelque part\, par un inconnu\, autour d'un thème\, d'un ressenti\, qu'ils partagent. Se met alors en place une chaîne aussi symbolique que poétique au fil de l'itinérance de cette intervention artistique drôle et décalée.
CATEGORIES:LES DACTYLOS
URL:https://www.ville-sainteanne.fr/actualites/article/les-dactylos?id_evenement=308

STATUS:CONFIRMED
END:VEVENT
END:VCALENDAR

