BEGIN:VCALENDAR
VERSION:2.0
X-WR-TIMEZONE:America/Guadeloupe
CALSCALE:GREGORIAN
PRODID:-//IPEOS/Calendar//NONSGML v1.0//FR
X-WR-CALNAME;VALUE=TEXT:Sainte-Anne - LES RENDEZ-VOUS DU DIPLO
X-WR-CALDESC: Les amis du monde diplomatique Guadeloupe\, en partenariat avec Ville de Sainte-Anne\, vous proposent la projection du film "Une histoire de la grève générale" de Olivier Azam et Laure Guillot (2012 - 60 mn)\, le vendredi 22 février à 19h au Centre de ressources de Douville.  La projection sera suivie d’un débat\, avec en invité Rémadjie N’Garoné\, docteur en ethnologie\, auteur de ‘‘Anthropologie du conflit en Guadeloupe - Prolongements\, ruptures et variations de la domination coloniale‘‘. A (…) 
X-WR-RELCALID:actualites/article/les-rendez-vous-du-diplo
BEGIN:VEVENT
SUMMARY:LES RENDEZ-VOUS DU DIPLO
UID:evenement309 @ https://www.ville-sainteanne.fr
DTSTAMP:20190221T205259Z
DTSTART:20190221T205200Z
DTEND:20190221T215200Z
CREATED:20190221T205259Z
LAST-MODIFIED:20190222T005311Z
LOCATION:Centre de Ressources
DESCRIPTION:Les amis du monde diplomatique Guadeloupe\, en partenariat avec Ville de Sainte-Anne\, vous proposent la projection du film "Une histoire de la grève générale" de Olivier Azam et Laure Guillot (2012 - 60 mn). La projection sera suivie d'un débat\, avec en invité Rémadjie N’Garoné\, docteur en ethnologie\, auteur de ‘‘Anthropologie du conflit en Guadeloupe - Prolongements\, ruptures et variations de la domination coloniale‘‘. A l‘occasion des 10 ans de la grève générale du LKP\, nous reviendrons sur son analyse du mouvement.
CATEGORIES:LES RENDEZ-VOUS DU DIPLO
URL:https://www.ville-sainteanne.fr/actualites/article/les-rendez-vous-du-diplo?id_evenement=309

STATUS:CONFIRMED
END:VEVENT
END:VCALENDAR

