BEGIN:VCALENDAR
VERSION:2.0
X-WR-TIMEZONE:America/Guadeloupe
CALSCALE:GREGORIAN
PRODID:-//IPEOS/Calendar//NONSGML v1.0//FR
X-WR-CALNAME;VALUE=TEXT:Sainte-Anne - EXPOSITION ITINERANTE
X-WR-CALDESC: Ville de Sainte-Anne est heureuse d’accueillir l’exposition itinérante "LA GUADELOUPE ET L’EXPERIENCE DE LA PREMIERE GUERRE MONDIALE" du vendredi 15 au samedi 23 mars 2019 au Centre Culturel de Sainte-Anne.   Le vernissage de cette exposition des Archives Départementales\, retraçant les conséquences de cette guerre sur la vie en Guadeloupe\, aura lieu le vendredi 15 mars à 19h.   Entrée libre et gratuite 
X-WR-RELCALID:vivre-a-sainte-anne/culture-dans-la-ville/centre-culturel/article/exposition-itinerante
BEGIN:VEVENT
SUMMARY:VERNISSAGE D'EXPOSITION ITINERANTE
UID:evenement310 @ https://www.ville-sainteanne.fr
DTSTAMP:20190312T192204Z
DTSTART:20190315T230000Z
DTEND:20190316T010000Z
CREATED:20190312T192204Z
LAST-MODIFIED:20190312T232233Z
LOCATION:Centre Culturel
DESCRIPTION:Ville de Sainte-Anne est heureuse d’accueillir l’exposition itinérante "LA GUADELOUPE ET L'EXPERIENCE DE LA PREMIERE GUERRE MONDIALE" du vendredi 15 au samedi 23 mars 2019 au Centre Culturel de Sainte-Anne. Le vernissage de cette exposition des Archives Départementales\, retraçant les conséquences de cette guerre sur la vie en Guadeloupe\, aura lieu le vendredi 15 mars à 19h. Entrée libre et gratuite
CATEGORIES:EXPOSITION ITINERANTE
URL:https://www.ville-sainteanne.fr/vivre-a-sainte-anne/culture-dans-la-ville/centre-culturel/article/exposition-itinerante?id_evenement=310

STATUS:CONFIRMED
END:VEVENT
END:VCALENDAR

