BEGIN:VCALENDAR
VERSION:2.0
X-WR-TIMEZONE:America/Guadeloupe
CALSCALE:GREGORIAN
PRODID:-//IPEOS/Calendar//NONSGML v1.0//FR
X-WR-CALNAME;VALUE=TEXT:Sainte-Anne - CULTURE DANS LA VILLE - Mars 2019
X-WR-CALDESC: Rtetrouvez ici le programme des animations culturelles à Sainte-Anne. 
X-WR-RELCALID:vivre-a-sainte-anne/culture-dans-la-ville/programme-mensuel-des-animations-de-la-ville/article/culture-dans-la-ville-mars-2019
BEGIN:VEVENT
SUMMARY:Club de lecture "LiRE ENTRE NOUS"
UID:evenement312 @ https://www.ville-sainteanne.fr
DTSTAMP:20190321T153728Z
DTSTART:20190330T133000Z
DTEND:20190330T153000Z
CREATED:20190321T153728Z
LAST-MODIFIED:20190321T231503Z
LOCATION:Bibliothèque multimédia Osange Talis-Gane
DESCRIPTION:En toute convivialité\, venez partager vos lectures et échanger vos impressions\, vos critiques littéraires avec les autres participants. Joli moment de partage avec l'association Lire Imaginer Vivre Entrée libre et gratuite Infoline : 0590 68 63 80
CATEGORIES:CULTURE DANS LA VILLE - Mars 2019
URL:https://www.ville-sainteanne.fr/vivre-a-sainte-anne/culture-dans-la-ville/programme-mensuel-des-animations-de-la-ville/article/culture-dans-la-ville-mars-2019?id_evenement=312

STATUS:CONFIRMED
END:VEVENT
END:VCALENDAR

