BEGIN:VCALENDAR
VERSION:2.0
X-WR-TIMEZONE:America/Guadeloupe
CALSCALE:GREGORIAN
PRODID:-//IPEOS/Calendar//NONSGML v1.0//FR
X-WR-CALNAME;VALUE=TEXT:Sainte-Anne - CULTURE DANS LA VILLE - Mars 2019
X-WR-CALDESC: Rtetrouvez ici le programme des animations culturelles à Sainte-Anne. 
X-WR-RELCALID:vivre-a-sainte-anne/culture-dans-la-ville/programme-mensuel-des-animations-de-la-ville/article/culture-dans-la-ville-mars-2019
BEGIN:VEVENT
SUMMARY:RENCONTRE
UID:evenement313 @ https://www.ville-sainteanne.fr
DTSTAMP:20190321T154113Z
DTSTART:20190320T183000Z
DTEND:20190320T203000Z
CREATED:20190321T154113Z
LAST-MODIFIED:20190321T231503Z
LOCATION:Bibliothèque multimédia Osange Talis-Gane
DESCRIPTION:L'association "Auteurs d'Ici et d'Ailleurs Caraïbes" organise une conférence à l'occasion de la venue en guadeloupe d'Emile LANSMAN qui fête les 30 ans de sa maisons d'édition. Lors de cette conférence\, il abordera un thème qui lui est cher : "L'univers de l'édition" et répondra aux questions Les Editions Lansman ont publié depuis 2003 de nombreux auteurs issus de toutes les îles de la caraïbe. Entrée libre et gratuite Infoline : 0590 68 63 80
CATEGORIES:CULTURE DANS LA VILLE - Mars 2019
URL:https://www.ville-sainteanne.fr/vivre-a-sainte-anne/culture-dans-la-ville/programme-mensuel-des-animations-de-la-ville/article/culture-dans-la-ville-mars-2019?id_evenement=313

STATUS:CONFIRMED
END:VEVENT
END:VCALENDAR

