BEGIN:VCALENDAR
VERSION:2.0
X-WR-TIMEZONE:America/Guadeloupe
CALSCALE:GREGORIAN
PRODID:-//IPEOS/Calendar//NONSGML v1.0//FR
X-WR-CALNAME;VALUE=TEXT:Sainte-Anne - CULTURE DANS LA VILLE - Mars 2019
X-WR-CALDESC: Rtetrouvez ici le programme des animations culturelles à Sainte-Anne. 
X-WR-RELCALID:vivre-a-sainte-anne/culture-dans-la-ville/programme-mensuel-des-animations-de-la-ville/article/culture-dans-la-ville-mars-2019
BEGIN:VEVENT
SUMMARY:LA FETE DU COURT METRAGE
UID:evenement314 @ https://www.ville-sainteanne.fr
DTSTAMP:20190321T155234Z
DTSTART:20190321T140000Z
DTEND:20190321T150000Z
CREATED:20190321T155234Z
LAST-MODIFIED:20190321T231503Z
LOCATION:Bibliothèque multimédia Osange Talis-Gane
DESCRIPTION:L'association pour la formation et les activités audiovisuelles et culturelles présente\, dans le cadre du festival national "La fête du court métrage"\, des projections filmiques. Au programme : "Handicapé et champion" - primé en 2018 - Médaille d'or au concours régional Ile de France - Durée 10 min "Harcèlement\, liberté importunée" - Durée 12 min Films réalisés avec les élèves du lycée Faustin Fléret de morne-à-l'eau sous la houlette de Mme Armel VERTINO-ALBERT\, cinéaste amateur "Loks y Gêne" - durée 10 min - médaille de bronze en 2016 Divers courts-métrages internationaux puisés dans la sélection 2019 Public scolaire de 8h30 à 9h30 Tout public de 10h à 11h Participation gratuite - inscription conseillée Infoline : 0590 68 63 80
CATEGORIES:CULTURE DANS LA VILLE - Mars 2019
URL:https://www.ville-sainteanne.fr/vivre-a-sainte-anne/culture-dans-la-ville/programme-mensuel-des-animations-de-la-ville/article/culture-dans-la-ville-mars-2019?id_evenement=314

STATUS:CONFIRMED
END:VEVENT
END:VCALENDAR

