BEGIN:VCALENDAR
VERSION:2.0
X-WR-TIMEZONE:America/Guadeloupe
CALSCALE:GREGORIAN
PRODID:-//IPEOS/Calendar//NONSGML v1.0//FR
X-WR-CALNAME;VALUE=TEXT:Sainte-Anne - CULTURE DANS LA VILLE - Octobre 2019
X-WR-CALDESC: La ville de Sainte-Anne vous présente l’offre culturelle et artistique du mois d’octobre   Rendez-vous au Centre culturel de la ville et à la bibliothèque municipale Osange Talis Gane pour participer aux évènements. 
X-WR-RELCALID:vivre-a-sainte-anne/culture-dans-la-ville/programme-mensuel-des-animations-de-la-ville/article/culture-dans-la-ville-octobre-2019
BEGIN:VEVENT
SUMMARY:Atelier de prise en main des smartphones
UID:evenement315 @ https://www.ville-sainteanne.fr
DTSTAMP:20190321T160112Z
DTSTART:20191003T180000Z
DTEND:20191003T200000Z
CREATED:20190321T160112Z
LAST-MODIFIED:20191002T181906Z
LOCATION:Bibliothèque multimédia Osange Talis-Gane
DESCRIPTION:Pour communiquer avec vos enfants et petits-enfants sur les réseaux sociaux Pour surfer sur le net\, acheter en ligne ou jouer en réseau (scrabble\, puzzle\,...) Pour utiliser au maximum le potentiel de votre smartphone INSCRIVEZ-VOUS A CET ATELIER ! Atelier gratuit - Inscription conseillée Tout public Informations et inscriptions au 0590 68 63 80 Pour communiquer avec vos enfants et petits-enfants sur les réseaux sociaux Pour surfer sur le net\, acheter en ligne ou jouer en réseau (scrabble\, puzzle\,...) Pour utiliser au maximum le potentiel de votre smartphone INSCRIVEZ-VOUS A CET ATELIER ! Atelier gratuit - Inscription conseillée Tout public Informations et inscriptions au 0590 68 63 80 
CATEGORIES:CULTURE DANS LA VILLE - Octobre 2019
URL:https://www.ville-sainteanne.fr/vivre-a-sainte-anne/culture-dans-la-ville/programme-mensuel-des-animations-de-la-ville/article/culture-dans-la-ville-octobre-2019?id_evenement=315

STATUS:CONFIRMED
END:VEVENT
END:VCALENDAR

