BEGIN:VCALENDAR
VERSION:2.0
X-WR-TIMEZONE:America/Guadeloupe
CALSCALE:GREGORIAN
PRODID:-//IPEOS/Calendar//NONSGML v1.0//FR
X-WR-CALNAME;VALUE=TEXT:Sainte-Anne - Conseil municipal
X-WR-CALDESC:Mercredi 27 mars 2019
X-WR-RELCALID:la-mairie/le-conseil-municipal/agenda/article/conseil-municipal-du-mercredi-27-mars-2019
BEGIN:VEVENT
SUMMARY:Conseil municipal du mercredi 27 mars 2019
UID:evenement316 @ https://www.ville-sainteanne.fr
DTSTAMP:20190325T191437Z
DTSTART:20190327T200000Z
DTEND:20190327T220000Z
CREATED:20190325T191437Z
LAST-MODIFIED:20190325T231456Z
LOCATION:Hôtel de Ville
DESCRIPTION:Christian BAPTISTE\, maire de la ville de Sainte-Anne\, vous invite à assister à la 2ème session ordinaire du conseil municipal de l'année 2019
CATEGORIES:Conseil municipal
URL:https://www.ville-sainteanne.fr/la-mairie/le-conseil-municipal/agenda/article/conseil-municipal-du-mercredi-27-mars-2019?id_evenement=316

STATUS:CONFIRMED
END:VEVENT
END:VCALENDAR

