BEGIN:VCALENDAR
VERSION:2.0
X-WR-TIMEZONE:America/Guadeloupe
CALSCALE:GREGORIAN
PRODID:-//IPEOS/Calendar//NONSGML v1.0//FR
X-WR-CALNAME;VALUE=TEXT:Sainte-Anne - ELECTIONS EUROPEENNES
X-WR-CALDESC: Les prochaines élections européennes auront lieu dans les 27 États membres de l’Union européenne entre le 23 et le 26 mai 2019.  En France\, elles auront lieu le dimanche 26 mai sauf à Saint-Pierre-et-Miquelon\, à Saint-Barthélemy\, à Saint-Martin\, en Guadeloupe\, en Martinique\, en Guyane\, en Polynésie française et dans les bureaux de vote ouverts par les ambassades et postes consulaires situés sur le continent américain où le vote aura lieu le samedi 25 mai.   Pour prendre part au vote\, (…) 
X-WR-RELCALID:actualites/article/elections-europeennes
BEGIN:VEVENT
SUMMARY:ELECTIONS EUROPEENNES
UID:evenement317 @ https://www.ville-sainteanne.fr
DTSTAMP:20190325T202515Z
DTSTART;VALUE=DATE:20190525
DTEND;VALUE=DATE:20190526
CREATED:20190325T202515Z
LAST-MODIFIED:20240917T222332Z
DESCRIPTION:Les prochaines élections européennes ont lieu dans les 27 États membres de l’Union européenne (UE) entre le 23 et le 26 mai 2019. En France\, elles ont lieu le dimanche 26 mai sauf à Saint-Pierre-et-Miquelon\, à Saint-Barthélemy\, à Saint-Martin\, en Guadeloupe\, en Martinique\, en Guyane\, en Polynésie française et dans les bureaux de vote ouverts par les ambassades et postes consulaires situés sur le continent américain où le vote a lieu le 25 mai.
CATEGORIES:ELECTIONS EUROPEENNES
URL:https://www.ville-sainteanne.fr/actualites/article/elections-europeennes?id_evenement=317

STATUS:CONFIRMED
END:VEVENT
END:VCALENDAR

