BEGIN:VCALENDAR
VERSION:2.0
X-WR-TIMEZONE:America/Guadeloupe
CALSCALE:GREGORIAN
PRODID:-//IPEOS/Calendar//NONSGML v1.0//FR
X-WR-CALNAME;VALUE=TEXT:Sainte-Anne - Conseil municipal
X-WR-CALDESC:Vendredi 12 avril 2019
X-WR-RELCALID:la-mairie/le-conseil-municipal/agenda/article/conseil-municipal-du-vendredi-12-avril-2019
BEGIN:VEVENT
SUMMARY:Conseil municipal - 3ème session ordinaire
UID:evenement318 @ https://www.ville-sainteanne.fr
DTSTAMP:20190409T121305Z
DTSTART:20190412T220000Z
DTEND:20190413T010000Z
CREATED:20190409T121305Z
LAST-MODIFIED:20190409T161631Z
LOCATION:Salle de délibération de l'Hotel de Ville
DESCRIPTION:Parmi les sujets à l’ordre du jour : - Examen et approbation du compte de gestion 2018 - Examen et vote du compte administratif 2018 - Vote des taux d’imposition 2019 - Examen et vote du budget primitif 2019 - Plan Pluriannuel d’Investissement Durable (PPID) - Acquisition de matériels et engins pour la collecte d’algues sargasses – Demande de subventions - Réhabilitation des chaussées communales – Demande de subventions
CATEGORIES:Conseil municipal
URL:https://www.ville-sainteanne.fr/la-mairie/le-conseil-municipal/agenda/article/conseil-municipal-du-vendredi-12-avril-2019?id_evenement=318

STATUS:CONFIRMED
END:VEVENT
END:VCALENDAR

