BEGIN:VCALENDAR
VERSION:2.0
X-WR-TIMEZONE:America/Guadeloupe
CALSCALE:GREGORIAN
PRODID:-//IPEOS/Calendar//NONSGML v1.0//FR
X-WR-CALNAME;VALUE=TEXT:Sainte-Anne - Matinées Sportives
X-WR-CALDESC: Une matinée d’animation est proposée aux enfants de 6 à 12 ans autour des activités nautiques et activités ludiques de plage.   INFOLINE  Direction des Affaires sportives  0590 85 15 55 
X-WR-RELCALID:actualites/article/matinees-sportives
BEGIN:VEVENT
SUMMARY:Matinées Sportives
UID:evenement319 @ https://www.ville-sainteanne.fr
DTSTAMP:20190409T134601Z
DTSTART:20190417T123000Z
DTEND:20190417T153000Z
CREATED:20190409T134601Z
LAST-MODIFIED:20190409T174830Z
LOCATION:plage du Bourg 
DESCRIPTION:Une matinée d’animation est proposée aux enfants de 6 à 12 ans autour des activités nautiques et activités ludiques de plage. INFOLINE Direction des Affaires sportives 0590 85 15 55
CATEGORIES:Matinées Sportives
URL:https://www.ville-sainteanne.fr/actualites/article/matinees-sportives?id_evenement=319

STATUS:CONFIRMED
END:VEVENT
END:VCALENDAR

